BEGIN:VCALENDAR
PRODID:NingEventWidget-v1
VERSION:2.0
METHOD:PUBLISH
BEGIN:VEVENT
UID:4320450:Event:949
DTSTAMP:20260425T161828Z
SUMMARY:Triumph Unplugged Music Series
DESCRIPTION:\"Carsie Blanton is a rare talent as a modern songwriter. 
 Her sly wit and urbane imagery reminds me of a folky, female Cole Port
 er. I'm really happy to know that classic songwriting is in good hands
  with Carsie Blanton.\" - Singer/Songwriter John Oates (of Hall & Oate
 s)\n\nCarsie is a young singer-songwriter who grew up in rural Virgini
 a and landed in Philadelphia in fall of 2006. Since then, her soulful,
  playful, intelligent music has earned her national respect. In her br
 ief time as a performing songwriter, Carsie has shared the stage with 
 nationally hailed acts Amos Lee, Nellie McKay, John Oates and Leon Red
 bone, and frequented noteworthy venues from The Birchmere (Alexandria,
  VA) to the Hotel CafÃ© (Los Angeles, CA). In 2008, Carsie toured with
  Loudon Wainwright III, and with Blue Note recording artists The Wood 
 Brothers.\n\nIn July of 2009, Carsie released her second album, Buoy, 
 produced by pop/rock mogul Pete Donnelly. While Carsieâ€™s songs tend 
 to be personal and lyrically rich, this release strays from the folk t
 radition to bring out the soulfulness, passion, and pop sensibility in
  her work.\n\nSUZIE BROWN â€“ might be a common name, but thereâ€™s no
 thing common about this rising talent. Having started writing songs in
  June 2008, Brown has already taken the circuit in and around Philadel
 phia by storm, selling out popular area music venues such as the Tin A
 ngel, and opening for the likes of Livingston Taylor and Lyle Lovett. 
 While media outlets have seized on her unusual bio â€” Brown is a prac
 ticing cardiologist who has set aside a promising research career to f
 ocus on music â€” audiences and promoters have focused on Brownâ€™s en
 gaging performances and her intimate songs. The easy familiarity of he
 r melodies harkens back to Carole Kingâ€™s folk-pop creations, while t
 he yearning sweetness in her voice recalls the down-home intimacy of P
 atty Griffin. Brownâ€™s songwriting is remarkably mature, combining su
 btle progressions with memorable turns of phrase, in the best traditio
 n of Nashville-style songwriting. This summer, Brown has reached new a
 udiences with successful shows at Bethlehem Musikfest in Bethlehem, PA
 , Rockwood Music Hall in New York City, and Club Passim and Johnny Dâ€
 ™s in Boston. She will continue touring this fall in support of her re
 cently completed EP, Side Streets, produced by Ross Bellenoit at Turtl
 e Studios in Philadelphia.\n\nFor more information visit http://philly
 todo.com/events/triumph-unplugged-music-series
DTSTART:20100128T010000Z
DTEND:20100128T040000Z
CATEGORIES:concert
LOCATION:Triumph Brewing Company
WEBSITE:http://www.facebook.com/Triumpholdcity
URL:http://www.facebook.com/Triumpholdcity
CONTACT:215-625-0855
ORGANIZER;CN="Stefan Vasilis":http://phillytodo.com/profile/StefanVasi
 lis
ATTACH;FMTTYPE="image/jpeg":http://storage.ning.com/topology/rest/1.0/
 file/get/3054945796?profile=original
ATTENDEE;ROLE=REQ-PARTICIPANT;PARTSTAT=ACCEPTED;RSVP=TRUE;CN="Stefan V
 asilis":http://phillytodo.com/profile/StefanVasilis
END:VEVENT
END:VCALENDAR
