BEGIN:VCALENDAR
PRODID:NingEventWidget-v1
VERSION:2.0
METHOD:PUBLISH
BEGIN:VEVENT
UID:4320450:Event:171508
DTSTAMP:20260425T110938Z
SUMMARY:Tree Lighting Ceremony
DESCRIPTION:Manayunk lights up for the holidays on November 17 with ou
 r annual tree lighting ceremony! Join us at Canal View Park (4416 Main
  Street) from 5:30-7:00 PM where we'll host a variety of live performa
 nces and special guests. The big man himself just might make an appear
 ance! The tree lighting ceremony also marks the official launch of the
  3rd annual \"Manayunk Gets LIT!\" decorating event between 50+ busine
 sses in the district.\n\n\nFor more information visit http://phillytod
 o.com/events/tree-lighting-ceremony-1
DTSTART:20221026T220000Z
DTEND:20221026T230000Z
CATEGORIES:special, event, holiday, performance
LOCATION:Main Street Manayunk
WEBSITE:https://manayunk.com/events/holidays-in-manayunk.html
URL:https://manayunk.com/events/holidays-in-manayunk.html
CONTACT:
ORGANIZER;CN="Manayunk Development Corporation":http://phillytodo.com/
 profile/ManayunkDevelopmentCorporation
ATTACH;FMTTYPE="image/jpeg":https://storage.ning.com/topology/rest/1.0
 /file/get/10855558053?profile=original
ATTENDEE;ROLE=REQ-PARTICIPANT;PARTSTAT=ACCEPTED;RSVP=TRUE;CN="Manayunk
  Development Corporation":http://phillytodo.com/profile/ManayunkDevelo
 pmentCorporation
END:VEVENT
END:VCALENDAR
