BEGIN:VCALENDAR
PRODID:NingEventWidget-v1
VERSION:2.0
METHOD:PUBLISH
BEGIN:VEVENT
UID:4320450:Event:56538
DTSTAMP:20260425T123402Z
SUMMARY:Treasure Island
DESCRIPTION:\n\n\n\n\n\n\n\n\n\n\nEmily – a young girl with big drea
 ms – transforms her living room into the wild seas, in this retellin
 g of the classic pirate tale. Let your imagination set sail, as Emily 
 joins Long John Silver in a world of buccaneers, buried treasure and s
 washbuckling adventure!\n\n\n\n\n\n\nFor more information visit http:/
 /phillytodo.com/events/treasure-island
DTSTART:20190403T160000Z
DTEND:20190609T200000Z
CATEGORIES:"children's", theatre, performance
LOCATION:Arden Theatre Company
WEBSITE:https://ardentheatre.org/event/treasure-island/2019-04-03/
URL:https://ardentheatre.org/event/treasure-island/2019-04-03/
CONTACT:2159221122
ORGANIZER;CN="Arden Theatre Company":http://phillytodo.com/profile/Ard
 enTheatreCompany
ATTACH;FMTTYPE="image/jpeg":http://storage.ning.com/topology/rest/1.0/
 file/get/3055015951?profile=original
ATTENDEE;ROLE=REQ-PARTICIPANT;PARTSTAT=ACCEPTED;RSVP=TRUE;CN="Arden Th
 eatre Company":http://phillytodo.com/profile/ArdenTheatreCompany
END:VEVENT
END:VCALENDAR
