BEGIN:VCALENDAR
PRODID:NingEventWidget-v1
VERSION:2.0
METHOD:PUBLISH
BEGIN:VEVENT
UID:4320450:Event:1361
DTSTAMP:20260425T160205Z
SUMMARY:Train with UFC FIGHTER Matt Serra 15th 2010
DESCRIPTION:Train with UFC Fighter Matt Serra – A Once in a Lifetime
  event.\n\nTrain with UFC FIGHTER Matt Serra May 15th 2010\nMatt Serra
  Accomplishments:\n\n•The First American to get a Black belt under R
 enzo Gracie in Brazilian Jiu-Jitsu\n\n•The Ultimate Fighter Season 4
  Winner\n•Former Welterweight Champion\n•Recent Win @ UFC 109 by K
 NOCKOUT\nSeminar Information:\n•Length: 2 hours with two 15 minute b
 reaks\n•For Teens and Adults\n•No Experience Required\n•No Equip
 ment Required\n•Wear workout clothes\n\n•This is an amazing way to
  get introduced to Mixed Martial Arts and if you have experience a gre
 at way to learn some new tricks.\n\n•Most Training Seminars with UFC
  Pro fighters fill up anywhere from 60 to 120 people.\n\n•We want th
 is training seminar to be special for its participants so we are limit
 ing the seminar size to 24 people per seminar.\n\nFor more information
  visit http://phillytodo.com/events/train-with-ufc-fighter-matt
DTSTART:20100515T140000Z
DTEND:20100515T204500Z
CATEGORIES:train, with, ufc, fighter, matt, serra
LOCATION:The Octagon
WEBSITE:http://www.gotoctagon.com/train-with-ufc-fighter-matt-serra/
URL:http://www.gotoctagon.com/train-with-ufc-fighter-matt-serra/
CONTACT:484-257-7439
ORGANIZER:Jeremy Gavin
ATTACH;FMTTYPE="image/jpeg":http://storage.ning.com/topology/rest/1.0/
 file/get/3054946514?profile=original
ATTENDEE;ROLE=REQ-PARTICIPANT;PARTSTAT=ACCEPTED;RSVP=TRUE;CN="Michael 
 J Rosenberg":http://phillytodo.com/profile/MichaelJRosenberg
END:VEVENT
END:VCALENDAR
