BEGIN:VCALENDAR
PRODID:NingEventWidget-v1
VERSION:2.0
METHOD:PUBLISH
BEGIN:VEVENT
UID:4320450:Event:36766
DTSTAMP:20260425T143453Z
SUMMARY:Trail Day: A Work Party and Celebration
DESCRIPTION:Calling volunteers: all hands on deck! Our trails took a b
 it of a beating this winter—downed limbs and trees snapped across o
 ur forest. Celebrate National Trails Day with a morning of giving bac
 k to the forest and helping us continue recovering from the winter. J
 oin our staff for trail work and other projects across the property. 
 Coffee and donuts served at 10:00, fresh air and exercise until 1:00,
  and a brown-bag picnic with live music in our amphitheater at noon. 
 We’d love your help. Please RSVP so we know how many projects we c
 an tackle.\nREI coupons for the first 40 people who RSVP – sign-up n
 ow!\nWe’ll have live music from Dan Kelly, Telluric Currents.\nSche
 dule: 10:00 am – 1:00 pm: work party 1:00 pm – 3:00 pm: brown bag 
 picnic lunch with live music\n\nFor more information visit http://phil
 lytodo.com/events/trail-day-a-work-party-and-celebration
DTSTART:20140607T140000Z
DTEND:20140607T190000Z
CATEGORIES:volunteer, workday
LOCATION:The Schuylkill Center for Environmental Education
WEBSITE:http://www.schuylkillcenter.org/
URL:http://www.schuylkillcenter.org/
CONTACT:2154827300
ORGANIZER;CN="The Schuylkill Center":http://phillytodo.com/profile/Ann
 aLehrMueser
ATTACH;FMTTYPE="image/jpeg":http://storage.ning.com/topology/rest/1.0/
 file/get/3054974588?profile=original
ATTENDEE;ROLE=REQ-PARTICIPANT;PARTSTAT=ACCEPTED;RSVP=TRUE;CN="The Schu
 ylkill Center":http://phillytodo.com/profile/AnnaLehrMueser
END:VEVENT
END:VCALENDAR
