BEGIN:VCALENDAR
PRODID:NingEventWidget-v1
VERSION:2.0
METHOD:PUBLISH
BEGIN:VEVENT
UID:4320450:Event:33422
DTSTAMP:20260425T142625Z
SUMMARY:Trail Building at Kitchen's Lane
DESCRIPTION:Parking is limited, so we encourage carpooling, biking, or
  hiking  The final push is underway at Kitchens Lane. The upper stairc
 ase is now finished (go check it out!) so the lower trail will need to
  be finished to complete the re-route. There will be light tread work,
  stone step building, wall building and general maintenance work neede
 d on the new trail. Some final closure work will be done along the old
  trail corridor and the ever present invasive species will be dealt wi
 th.\nPlease contact Volunteer Coordinator Eric D. Falk at falk@fow.org
  with any questions  Volunteers are encouraged to bike, hike or carpoo
 l to work days.  Registration is not required but is recommended in o
 rder to be notified in case of any changes due to weather.  Workdays 
 will be cancelled in the event of heavy rain or snow. Refer to the FO
 W Facebook page or the FOW work day page for updates.\n\nFor more inf
 ormation visit http://phillytodo.com/events/trail-building-at-kitchen-
 s-lane
DTSTART:20130803T130000Z
DTEND:20130803T170000Z
CATEGORIES:outdoor, volunteer, opportunity
LOCATION:Kitchen's Lane, Wissahickon Valley Park
WEBSITE:http://goo.gl/maps/cihup
URL:http://goo.gl/maps/cihup
CONTACT:215-247-0417 x107
ORGANIZER;CN="Friends of the Wissahickon":http://phillytodo.com/profil
 e/FriendsoftheWissahickon
ATTACH;FMTTYPE="image/jpeg":http://storage.ning.com/topology/rest/1.0/
 file/get/3054966991?profile=original
ATTENDEE;ROLE=REQ-PARTICIPANT;PARTSTAT=ACCEPTED;RSVP=TRUE;CN="Friends 
 of the Wissahickon":http://phillytodo.com/profile/FriendsoftheWissahic
 kon
END:VEVENT
END:VCALENDAR
