BEGIN:VCALENDAR
PRODID:NingEventWidget-v1
VERSION:2.0
METHOD:PUBLISH
BEGIN:VEVENT
UID:4320450:Event:46739
DTSTAMP:20260425T175145Z
SUMMARY:Tracy Morgan at Valley Forge Music Fair
DESCRIPTION:Valley Forge Casino Resort (1160 First Avenue) presents Tr
 acy Morgan back on his Pickin’ Up the Pieces Tour on Saturday, Octob
 er 15, 2016 as part of Valley Forge Music Fair. Starring for seven sea
 sons on NBC’s Emmy and Golden Globe Award-winning 30 Rock, and part 
 of the legendary SNL family, Morgan recently wrapped production on Fis
 t Fight alongside Ice Cube and Charlie Day, premiering in 2017. Doors 
 of the Event Center will open at 8:00pm, with the show starting at 9:0
 0pm. Tickets are on sale now at Ticketmaster for $55-$75 each.\n\nFor 
 more information visit http://phillytodo.com/events/tracy-morgan-at-va
 lley-forge-music-fair
DTSTART:20161016T010000Z
DTEND:20161016T030000Z
CATEGORIES:stand, up, comedy
LOCATION:The Event Center at Valley Forge Casino Resort
WEBSITE:https://www.vfcasino.com/events/tracy-morgan/
URL:https://www.vfcasino.com/events/tracy-morgan/
CONTACT:
ORGANIZER;CN="Aversa PR & Events":http://phillytodo.com/profile/KoryAv
 ersa277
ATTACH;FMTTYPE="image/jpeg":http://storage.ning.com/topology/rest/1.0/
 file/get/3054995805?profile=original
ATTENDEE;ROLE=REQ-PARTICIPANT;PARTSTAT=ACCEPTED;RSVP=TRUE;CN="Aversa P
 R & Events":http://phillytodo.com/profile/KoryAversa277
END:VEVENT
END:VCALENDAR
