BEGIN:VCALENDAR
PRODID:NingEventWidget-v1
VERSION:2.0
METHOD:PUBLISH
BEGIN:VEVENT
UID:4320450:Event:52302
DTSTAMP:20260425T130923Z
SUMMARY:TouchTones at the Arden Theatre Company
DESCRIPTION:Single tickets are now available!\n\nThe Arden Theatre Com
 pany presents: TouchTones\n\nA new musical comedy about love, sex, and
  the fantasy at the other end of the line… It’s 1999, the cusp of
  a new millennium, and technology promises intimacy as well as anonymi
 ty. Christine and her fiancé Justin wander into this titillating worl
 d of role-play, secret delights, and shifting identities; but who will
  they be when they come out again? (And will they recognize themselves
 ?)\n\nFor more information visit http://phillytodo.com/events/touchton
 es-at-the-arden-theatre-company
DTSTART:20171019T230000Z
DTEND:20171203T210000Z
CATEGORIES:theatre
LOCATION:Arden Theatre Company
WEBSITE:http://www.robertmaggio.com/performances/upcoming-performances
 /
URL:http://www.robertmaggio.com/performances/upcoming-performances/
CONTACT:215.922.1122
ORGANIZER;CN="Arden Theatre Company":http://phillytodo.com/profile/Ard
 enTheatreCompany
ATTACH;FMTTYPE="image/jpeg":http://storage.ning.com/topology/rest/1.0/
 file/get/3055010006?profile=original
ATTENDEE;ROLE=REQ-PARTICIPANT;PARTSTAT=ACCEPTED;RSVP=TRUE;CN="Arden Th
 eatre Company":http://phillytodo.com/profile/ArdenTheatreCompany
END:VEVENT
END:VCALENDAR
