BEGIN:VCALENDAR
PRODID:NingEventWidget-v1
VERSION:2.0
METHOD:PUBLISH
BEGIN:VEVENT
UID:4320450:Event:35589
DTSTAMP:20260425T234818Z
SUMMARY:Tomorrow Never Knows: The Beatles in Text and Images
DESCRIPTION:To celebrate the fiftieth anniversary of the Beatles arriv
 al in America, the Kislak Center at the University of Pennsylvania is 
 hosting an exhibition of books about and by The Beatles. The exhibit w
 ill trace the representation of the iconographic group through a numbe
 r of formats and genres including mass market paper backs, periodicals
 , ephemera, and deluxe signed editions published by Genesis Publishing
  in the United Kingdom.\nOpening of Exhibition and Philadelphia launch
  of She Loves You by Jude Southerland Kessler\n\nFor more information
  visit http://phillytodo.com/events/tomorrow-never-knows-the-beatles-i
 n-text-and-images
DTSTART:20140227T223000Z
DTEND:20140228T000000Z
CATEGORIES:opening, reception, and, exhibition
LOCATION:Kamin Gallery, Van Pelt-Dietrich Library, University of Penns
 ylvania
WEBSITE:http://www.library.upenn.edu/exhibits/thebeatles.html
URL:http://www.library.upenn.edu/exhibits/thebeatles.html
CONTACT:
ORGANIZER:Kislak Center at the University of Pennyslvania
ATTACH;FMTTYPE="image/jpeg":http://storage.ning.com/topology/rest/1.0/
 file/get/3054973152?profile=original
ATTENDEE;ROLE=REQ-PARTICIPANT;PARTSTAT=ACCEPTED;RSVP=TRUE;CN="Jennifer
  Vanderslice":http://phillytodo.com/profile/JenniferVanderslice
END:VEVENT
END:VCALENDAR
