BEGIN:VCALENDAR
PRODID:NingEventWidget-v1
VERSION:2.0
METHOD:PUBLISH
BEGIN:VEVENT
UID:4320450:Event:46530
DTSTAMP:20260425T124909Z
SUMMARY:Tomato Jam Workshop with Marisa McClellan
DESCRIPTION:Want to preserve flavorful summer tomatoes so that you can
  enjoy them all year round? Learn how to safely and deliciously can th
 em with author of Naturally Sweet Food in Jars and blogger at Food in 
 Jars, Marisa McClellan. You’ll get hands-on making a batch of honey 
 sweetened Tomato Jam, and Marisa will offer information for other type
 s of tomato canning. She’ll also demonstrate how to use the boiling 
 water bath method for safe, shelf-stable preservation. Marisa has taug
 ht canning and preserving for more than a decade and loves to share he
 r knowledge and experience with new and experienced canners alike.\nEv
 eryone will get recipes, tips and a jar of tomato jam to take home.\n-
  See more at: http://www.greensgrow.org/event/tomato-jam-with-marisa-m
 cclellan/#sthash.xQKqHfhg.dpuf\n\nFor more information visit http://ph
 illytodo.com/events/tomato-jam-workshop-with-marisa-mcclellan
DTSTART:20160910T160000Z
DTEND:20160910T180000Z
CATEGORIES:workshop
LOCATION:Greensgrow Farm
WEBSITE:http://www.greensgrow.org/event/tomato-jam-with-marisa-mcclell
 an/
URL:http://www.greensgrow.org/event/tomato-jam-with-marisa-mcclellan/
CONTACT:215.427.2702
ORGANIZER;CN="Greensgrow Farms":http://phillytodo.com/profile/Greensgr
 owFarms
ATTACH;FMTTYPE="image/jpeg":http://storage.ning.com/topology/rest/1.0/
 file/get/3054995517?profile=original
ATTENDEE;ROLE=REQ-PARTICIPANT;PARTSTAT=ACCEPTED;RSVP=TRUE;CN="Greensgr
 ow Farms":http://phillytodo.com/profile/GreensgrowFarms
END:VEVENT
END:VCALENDAR
