BEGIN:VCALENDAR
PRODID:NingEventWidget-v1
VERSION:2.0
METHOD:PUBLISH
BEGIN:VEVENT
UID:4320450:Event:35804
DTSTAMP:20260425T175646Z
SUMMARY:Tomato Grafting with Greensgrow's Farmer Nathan Hassler-Brooks
DESCRIPTION:Interested in learning more about grafted tomatoes? Do you
  have limited space to rotate your crops and suffer from tomato blight
  in the garden? Nathan will demonstrate how to graft onto a blight res
 istant root stock and explain why & how grafting works. This workshop 
 will cover some advanced technique; we'll cover starting root stock se
 ed, timing your scion seed for successful grafting, healing and plant 
 your grafted tomato, as well as the benefits of grafted stock.\nEveryo
 ne will get some root stock seed and grafting clips to take home to ge
 t started.\nRegister: http://www.greensgrow.org/event/tomato-grafting-
 workshop/\n\nFor more information visit http://phillytodo.com/events/t
 omato-grafting-with-greensgrow-s-farmer-nathan-hassler-brooks
DTSTART:20140308T170000Z
DTEND:20140308T190000Z
CATEGORIES:gardening, workshop
LOCATION:Greensgrow Farms
WEBSITE:http://www.greensgrow.org/contact/location/
URL:http://www.greensgrow.org/contact/location/
CONTACT:215-427-2702
ORGANIZER;CN="Greensgrow Farms":http://phillytodo.com/profile/Greensgr
 owFarms
ATTACH;FMTTYPE="image/jpeg":
ATTENDEE;ROLE=REQ-PARTICIPANT;PARTSTAT=ACCEPTED;RSVP=TRUE;CN="Greensgr
 ow Farms":http://phillytodo.com/profile/GreensgrowFarms
END:VEVENT
END:VCALENDAR
