BEGIN:VCALENDAR
PRODID:NingEventWidget-v1
VERSION:2.0
METHOD:PUBLISH
BEGIN:VEVENT
UID:4320450:Event:49352
DTSTAMP:20260425T160032Z
SUMMARY:Toad Night
DESCRIPTION:The toads are coming! See American toads up close, hear th
 eir trills, learn about toad natural history, and look for their eggs 
 in ponds.Â  Join us for presentations from and discussions with Dr. Ca
 rlos MartÃ­nez Rivera, an Amphibian Conservation Specialist with theÂ 
 Philadelphia Zoo.Â  Dr. Â MartÃ­nez Rivera will lend his expertise to 
 talk about frogs, toads, and conservation issues in our region.Â  Weâ€
 ™ll hike rain or shine, so bring a raincoat along to observe this uniq
 ue Roxborough natural phenomenon.\n\nFor more information visit http:/
 /phillytodo.com/events/toad-night-1
DTSTART:20170408T230000Z
DTEND:20170409T000000Z
CATEGORIES:family
LOCATION:Schuylkill Center
WEBSITE:http://www.schuylkillcenter.org/blog/event/toad-night/
URL:http://www.schuylkillcenter.org/blog/event/toad-night/
CONTACT:215-482-7300
ORGANIZER;CN="The Schuylkill Center":http://phillytodo.com/profile/Ann
 aLehrMueser
ATTACH;FMTTYPE="image/jpeg":http://storage.ning.com/topology/rest/1.0/
 file/get/3055002189?profile=original
ATTENDEE;ROLE=REQ-PARTICIPANT;PARTSTAT=ACCEPTED;RSVP=TRUE;CN="The Schu
 ylkill Center":http://phillytodo.com/profile/AnnaLehrMueser
END:VEVENT
END:VCALENDAR
