BEGIN:VCALENDAR
PRODID:NingEventWidget-v1
VERSION:2.0
METHOD:PUBLISH
BEGIN:VEVENT
UID:4320450:Event:59406
DTSTAMP:20260425T124855Z
SUMMARY:Toad Detour Training
DESCRIPTION:Each spring, volunteers shepherd thousands of toads safely
  across Port Royal Avenue as they travel to and from their breeding gr
 ounds at the Upper Roxborough Reservoir Preserve. If you’d like to h
 elp with this year’s Toad Detour, join us for this orientation. Volu
 nteers can help for an evening, bring a Girl or Boy Scout Troop, or be
 come shift managers, to help manage the many volunteers who help these
  toads. You’ll learn all about toads, toad handling, and shift sign-
 ups. Volunteers are needed for evening shifts from March through June.
 \n\nFor more information visit http://phillytodo.com/events/toad-detou
 r-training
DTSTART:20200215T180000Z
DTEND:20200215T200000Z
CATEGORIES:volunteer
LOCATION:the Schuylkill Center
WEBSITE:http://www.schuylkillcenter.org/blog/event/toad-detour-trainin
 g-2/
URL:http://www.schuylkillcenter.org/blog/event/toad-detour-training-2/
CONTACT:
ORGANIZER;CN="The Schuylkill Center":http://phillytodo.com/profile/Ann
 aLehrMueser
ATTACH;FMTTYPE="image/jpeg":
ATTENDEE;ROLE=REQ-PARTICIPANT;PARTSTAT=ACCEPTED;RSVP=TRUE;CN="The Schu
 ylkill Center":http://phillytodo.com/profile/AnnaLehrMueser
END:VEVENT
END:VCALENDAR
