BEGIN:VCALENDAR
PRODID:NingEventWidget-v1
VERSION:2.0
METHOD:PUBLISH
BEGIN:VEVENT
UID:4320450:Event:169305
DTSTAMP:20260425T125506Z
SUMMARY:To Build a More Perfect Union: Architecture &amp; Democracy
DESCRIPTION:Join Carpenters’ Hall during DesignPhiladelphia for a di
 scussion panel on American architecture and its relationship with demo
 cratic ideals and practices. Serving as the site of the First Continen
 tal Congress in 1774, Carpenters’ Hall’s role in the birth of Amer
 ica will provide a perfect venue to explore these issues. \nThe panel
  will be hosted by state senator the Hon. Nikil Saval, a former co-edi
 tor of the literary journal n+1 and contributor of many writings on ar
 chitecture and design. Listen as panelists Richard Bartholomew, John B
 latteau, and Daniela Voith explore the role of architecture during the
  birth of the country, and its symbolization of American democracy. Fo
 r those who are unable to attend, a recording of the discussion panel 
 is available for purchase.\n\nFor more information visit http://philly
 todo.com/events/to-build-a-more-perfect-union-architecture-amp-democra
 cy-1
DTSTART:20211012T213000Z
DTEND:20211012T230000Z
CATEGORIES:discussion, panel
LOCATION:Carpenters' Hall
WEBSITE:https://www.carpentershall.org/events
URL:https://www.carpentershall.org/events
CONTACT:215-925-0167
ORGANIZER:Carpenters' Hall
ATTACH;FMTTYPE="image/jpeg":https://storage.ning.com/topology/rest/1.0
 /file/get/9633776872?profile=original
ATTENDEE;ROLE=REQ-PARTICIPANT;PARTSTAT=ACCEPTED;RSVP=TRUE;CN="Bryan Ch
 an":http://phillytodo.com/profile/BryanChan
END:VEVENT
END:VCALENDAR
