BEGIN:VCALENDAR
PRODID:NingEventWidget-v1
VERSION:2.0
METHOD:PUBLISH
BEGIN:VEVENT
UID:4320450:Event:40629
DTSTAMP:20260425T112729Z
SUMMARY:Tippler’s Tour: Ghosts & Toasts
DESCRIPTION:September 24 – October 29: Tippler’s Tour: Ghosts & To
 asts: Thursdays, 5:30 pm\nHistoric Philadelphia’s Colonial pub crawl
  gets spiked with seasonal beers and tales that will give you goosebum
 ps! Cheers to the spirits of ‘76! NOTE this tour departs from the B
 etsy Ross House, 239 Arch Street.\n\nFor more information visit http:/
 /phillytodo.com/events/tippler-s-tour-ghosts-toasts
DTSTART:20150924T213000Z
DTEND:20151029T213000Z
CATEGORIES:tour
LOCATION:Betsy Ross House, 239 Arch Street
WEBSITE:http://historicphiladelphia.org/tipplers-tour/
URL:http://historicphiladelphia.org/tipplers-tour/
CONTACT:
ORGANIZER:Historic Philadelphia Inc.
ATTACH;FMTTYPE="image/jpeg":http://storage.ning.com/topology/rest/1.0/
 file/get/3054966945?profile=original
ATTENDEE;ROLE=REQ-PARTICIPANT;PARTSTAT=ACCEPTED;RSVP=TRUE;CN="Cari Fei
 ler Bender":http://phillytodo.com/profile/CariFeilerBender
END:VEVENT
END:VCALENDAR
