BEGIN:VCALENDAR
PRODID:NingEventWidget-v1
VERSION:2.0
METHOD:PUBLISH
BEGIN:VEVENT
UID:4320450:Event:58922
DTSTAMP:20260425T114100Z
SUMMARY:Tiny Beautiful Things
DESCRIPTION:Based on the book by Cheryl Strayed, Tiny Beautiful Things
  explores Strayed’s time as the anonymous advice columnist, Dear Sug
 ar. While navigating her readers’ questions and pleas for advice, St
 rayed weaves together her own personal experiences and finds the coura
 ge to create a column full of light, laughter, and humanity.\n\nFor mo
 re information visit http://phillytodo.com/events/tiny-beautiful-thing
 s
DTSTART:20191024T230000Z
DTEND:20191209T014500Z
CATEGORIES:theater
LOCATION:Arden Theatre Company
WEBSITE:https://ardentheatre.org/event/tiny-beautiful-things/2019-10-2
 4/
URL:https://ardentheatre.org/event/tiny-beautiful-things/2019-10-24/
CONTACT:215.922.1122
ORGANIZER;CN="Arden Theatre Company":http://phillytodo.com/profile/Ard
 enTheatreCompany
ATTACH;FMTTYPE="image/jpeg":https://storage.ning.com/topology/rest/1.0
 /file/get/3565047046?profile=original
ATTENDEE;ROLE=REQ-PARTICIPANT;PARTSTAT=ACCEPTED;RSVP=TRUE;CN="Arden Th
 eatre Company":http://phillytodo.com/profile/ArdenTheatreCompany
END:VEVENT
END:VCALENDAR
