BEGIN:VCALENDAR
PRODID:NingEventWidget-v1
VERSION:2.0
METHOD:PUBLISH
BEGIN:VEVENT
UID:4320450:Event:52003
DTSTAMP:20260425T101159Z
SUMMARY:Timothy School “Take a Bite Out of Autism”
DESCRIPTION:“Take a Bite Out of Autism” is an annual fundraiser fe
 aturing local restaurant signature dishes to benefit The Timothy Schoo
 l for children with autism. The event brings together some of the are
 a’s favorite restaurants, wine and beer, wonderful auction items and
  entertainment to benefit the oldest non-profit private school in Penn
 sylvania devoted exclusively to teaching students with autism.\n\nFor 
 more information visit http://phillytodo.com/events/timothy-school-tak
 e-a-bite-out-of-autism
DTSTART:20171026T223000Z
DTEND:20171027T030000Z
CATEGORIES:charity, fundraiser
LOCATION:The Barn at Liseter
WEBSITE:
URL:
CONTACT:
ORGANIZER:Timothy School
ATTACH;FMTTYPE="image/jpeg":http://storage.ning.com/topology/rest/1.0/
 file/get/3055009563?profile=original
ATTENDEE;ROLE=REQ-PARTICIPANT;PARTSTAT=ACCEPTED;RSVP=TRUE;CN="Paige Wo
 lf":http://phillytodo.com/profile/PaigeWolf
END:VEVENT
END:VCALENDAR
