BEGIN:VCALENDAR
PRODID:NingEventWidget-v1
VERSION:2.0
METHOD:PUBLISH
BEGIN:VEVENT
UID:4320450:Event:46402
DTSTAMP:20260425T145431Z
SUMMARY:Tim McGraw 4th of July All-Day Beach Concert & Festival
DESCRIPTION:The Greatest 4th of July Celebration in America!  Wildwoo
 d, NJ is home to one of the best beaches in America, and this July 4th
  it's going to host an epic celebration of America's Independence! Sup
 port our troops and make new friends while listening to live music all
  day long featuring superstar Tim McGraw and openers Hunter Hayes and 
 Maggie Rose with a spectacular fireworks display to close out the nigh
 t.  Official after party featuring top 40 hits spun by local DJ's and
  discount food and beverage options throughout the night - all on the 
 beach!\n \nThere's no better place to be... celebrate your freedom in
  Wildwood, New Jersey!\n\nFor more information visit http://phillytodo
 .com/events/tim-mcgraw-4th-of-july-all-day-beach-concert-festival
DTSTART:20160704T180000Z
DTEND:20160705T030000Z
CATEGORIES:concert
LOCATION:Wildwood Beach
WEBSITE:http://www.wildwoodbeachconcerts.com/?ref=ptodo
URL:http://www.wildwoodbeachconcerts.com/?ref=ptodo
CONTACT:267-939-0503
ORGANIZER;CN="UpcomingEvents.com":http://phillytodo.com/profile/Upcomi
 ngEventscom
ATTACH;FMTTYPE="image/jpeg":http://storage.ning.com/topology/rest/1.0/
 file/get/3054995498?profile=original
ATTENDEE;ROLE=REQ-PARTICIPANT;PARTSTAT=ACCEPTED;RSVP=TRUE;CN="Upcoming
 Events.com":http://phillytodo.com/profile/UpcomingEventscom
END:VEVENT
END:VCALENDAR
