BEGIN:VCALENDAR
PRODID:NingEventWidget-v1
VERSION:2.0
METHOD:PUBLISH
BEGIN:VEVENT
UID:4320450:Event:170970
DTSTAMP:20260425T125616Z
SUMMARY:TILT Institute for the Contemporary Image presents the Opening
  Reception of â€˜If We Never Get Betterâ€™
DESCRIPTION:Join TILT Institute for the Contemporary Image, in collabo
 ration with The Photographerâ€™s Green Book, for the Opening Reception
  of a new group exhibition titled,Â â€˜If We Never Get Better.â€™ At 5
  p.m., guests can join the exhibitionâ€™s curator and The Photographer
 â€™s Green Bookâ€™s Editor-in-Chief,Â Sydney Ellison, for an in-depth 
 tour that provides an overview of the artistsâ€™ works and process.\nÂ
  \nâ€˜If We Never Get Betterâ€™ features work from lens-based artists 
 who focus on health/care, collective grief, disability, illness, and h
 ealing as components of their practices. The artwork invites the viewe
 r to consider: What if these circumstances arenâ€™t pitied, ignored, o
 r wished away, but instead are seen as a place for the study and culti
 vation of new skills that allow us to relate to others in a different 
 way?\nÂ \nIf We Never Get Better features artists Anique Jordan,Â Ari 
 Golub,Â Clifford Prince King,Â Debmalya Ray Choudhuri,Â Frances Bukovs
 ky,Â Jaklin Romine,Â Jenica Heintzelman,Â Shala Miller, andÂ Shanna Me
 rola.\n\nFor more information visit http://phillytodo.com/events/tilt-
 institute-for-the-contemporary-image-presents-the-opening
DTSTART:20220916T210000Z
DTEND:20220917T000000Z
CATEGORIES:art, exhibition
LOCATION:TILT Institute
WEBSITE:https://tiltinstitute.org/exhibitions/ifwenevergetbetter
URL:https://tiltinstitute.org/exhibitions/ifwenevergetbetter
CONTACT:215-232-5678
ORGANIZER:
ATTACH;FMTTYPE="image/jpeg":
ATTENDEE;ROLE=REQ-PARTICIPANT;PARTSTAT=ACCEPTED;RSVP=TRUE;CN="En Route
  Marketing":http://phillytodo.com/profile/EnRouteMarketing
END:VEVENT
END:VCALENDAR
