BEGIN:VCALENDAR
PRODID:NingEventWidget-v1
VERSION:2.0
METHOD:PUBLISH
BEGIN:VEVENT
UID:4320450:Event:170968
DTSTAMP:20260425T125538Z
SUMMARY:TILT Institute for the Contemporary Image presents ‘If We Ne
 ver Get Better’
DESCRIPTION:TILT Institute for the Contemporary Image, in collaboratio
 n with The Photographer’s Green Book, presents a new group exhibitio
 n titled, If We Never Get Better. Curated by The Photographer’s Gre
 en Book’s Editor-in-Chief Sydney Ellison, the exhibition features w
 ork from lens-based artists who focus on health/care, collective grief
 , disability, illness, and healing as components of their practices. T
 he artwork invites the viewer to consider: What if these circumstances
  aren’t pitied, ignored, or wished away, but instead are seen as a p
 lace for the study and cultivation of new skills that allow us to rela
 te to others in a different way?\n\nFor more information visit http://
 phillytodo.com/events/tilt-institute-for-the-contemporary-image-presen
 ts-if-we-never
DTSTART:20220908T160000Z
DTEND:20221210T230000Z
CATEGORIES:art, exhibition
LOCATION:TILT Institute
WEBSITE:https://tiltinstitute.org/exhibitions/ifwenevergetbetter
URL:https://tiltinstitute.org/exhibitions/ifwenevergetbetter
CONTACT:215-232-5678
ORGANIZER:
ATTACH;FMTTYPE="image/jpeg":https://storage.ning.com/topology/rest/1.0
 /file/get/10778479299?profile=original
ATTENDEE;ROLE=REQ-PARTICIPANT;PARTSTAT=ACCEPTED;RSVP=TRUE;CN="En Route
  Marketing":http://phillytodo.com/profile/EnRouteMarketing
END:VEVENT
END:VCALENDAR
