BEGIN:VCALENDAR
PRODID:NingEventWidget-v1
VERSION:2.0
METHOD:PUBLISH
BEGIN:VEVENT
UID:4320450:Event:171203
DTSTAMP:20260425T123919Z
SUMMARY:TILT Institute for the Contemporary Image hosts If We Never Ge
 t Better Panel Discussion
DESCRIPTION:Join TILT Institute for the Contemporary Image for a panel
  discussion on their latest exhibition, If We Never Get Better, hosted
  by exhibition curator and the Photographer’s Green Book’s (PGB) E
 ditor-in-Chief Sydney Ellison. During this program, Ellison and the fe
 atured artists will join a panel discussion moderated by Ally Caple, D
 irector of Public Engagement at PGB. The panel will explore If We Neve
 r Get Better’s premise and how photography functions as a means to e
 xamine the complexities of healthcare, illness, and disability.\nIf We
  Never Get Better features work from lens-based artists who focus on h
 ealthcare, collective grief, disability, illness, and healing as compo
 nents of their practices. The artwork invites the viewer to consider: 
 What if these circumstances aren’t pitied, ignored, or wished away, 
 but instead are seen as a place for the study and cultivation of new s
 kills that allow us to relate to others in a different way?\n\nFor mor
 e information visit http://phillytodo.com/events/tilt-institute-for-th
 e-contemporary-image-hosts-if-we-never-get-1
DTSTART:20221115T233000Z
DTEND:20221116T003000Z
CATEGORIES:panel, discussion
LOCATION:TILT Institute for the Contemporary Image
WEBSITE:https://tiltinstitute.org/events/if-we-never-get-better-panel-
 discussion-virtual/
URL:https://tiltinstitute.org/events/if-we-never-get-better-panel-disc
 ussion-virtual/
CONTACT:2152325678
ORGANIZER;CN="En Route Marketing":http://phillytodo.com/profile/EnRout
 eMarketing
ATTACH;FMTTYPE="image/jpeg":
ATTENDEE;ROLE=REQ-PARTICIPANT;PARTSTAT=ACCEPTED;RSVP=TRUE;CN="En Route
  Marketing":http://phillytodo.com/profile/EnRouteMarketing
END:VEVENT
END:VCALENDAR
