BEGIN:VCALENDAR
PRODID:NingEventWidget-v1
VERSION:2.0
METHOD:PUBLISH
BEGIN:VEVENT
UID:4320450:Event:31957
DTSTAMP:20260425T125034Z
SUMMARY:Ticked Off Musc Fest
DESCRIPTION:Ticked Off Music Fest, a concert dedicated to Lyme disease
  awareness, will kick off its series in Wilmington, DE at the World Ca
 fé Live at The Queen on June 15.\n\nFor more information visit http:/
 /phillytodo.com/events/ticked-off-musc-fest
DTSTART:20130615T200000Z
DTEND:20130616T020000Z
CATEGORIES:music, festival
LOCATION:World Cafe Live at The Queen
WEBSITE:http://queentickets.worldcafelive.com/
URL:http://queentickets.worldcafelive.com/
CONTACT:
ORGANIZER:Gregg Kirk
ATTACH;FMTTYPE="image/jpeg":http://storage.ning.com/topology/rest/1.0/
 file/get/3054965794?profile=original
ATTENDEE;ROLE=REQ-PARTICIPANT;PARTSTAT=ACCEPTED;RSVP=TRUE;CN="Jennifer
  Vanderslice":http://phillytodo.com/profile/JenniferVanderslice
END:VEVENT
END:VCALENDAR
