BEGIN:VCALENDAR
PRODID:NingEventWidget-v1
VERSION:2.0
METHOD:PUBLISH
BEGIN:VEVENT
UID:4320450:Event:2952
DTSTAMP:20260425T173501Z
SUMMARY:Thursday Jazz Jam Session
DESCRIPTION:Every Thursday, 9PM-1AM. Come sit on a comfy sofa, listen 
 to some awesome music, and chill out. Musicians welcome to sit in. Bab
 y grand piano on site. $5 suggested donation, but not necessary.\n\nFo
 r more information visit http://phillytodo.com/events/thursday-jazz-ja
 m-session
DTSTART:20101112T020000Z
DTEND:20101112T060000Z
CATEGORIES:jam, session
LOCATION:Bookspace
WEBSITE:http://maps.google.com/maps/place?cid=1024156466952323173&q=bo
 okspace+19125&gl=us
URL:http://maps.google.com/maps/place?cid=1024156466952323173&q=booksp
 ace+19125&gl=us
CONTACT:
ORGANIZER;CN=Bookspace:http://phillytodo.com/profile/Bookspace
ATTACH;FMTTYPE="image/jpeg":http://storage.ning.com/topology/rest/1.0/
 file/get/3054950854?profile=original
ATTENDEE;ROLE=REQ-PARTICIPANT;PARTSTAT=ACCEPTED;RSVP=TRUE;CN=Bookspace
 :http://phillytodo.com/profile/Bookspace
END:VEVENT
END:VCALENDAR
