BEGIN:VCALENDAR
PRODID:NingEventWidget-v1
VERSION:2.0
METHOD:PUBLISH
BEGIN:VEVENT
UID:4320450:Event:39019
DTSTAMP:20260425T133054Z
SUMMARY:'Thursday is the New Friday' at Northbowl with artists Marissa
  Evans & Brian Lauer!
DESCRIPTION:Start your First Friday a day early this month!\n\nArtists
 , seekers, gallery owners, and friends we invite you to our First Frid
 ay opening on Thursday, November 6th 2014 in our upstairs loft. \n\nW
 e encourage you to get a jump start on First Friday festivities featur
 ing two talented photographers and their unique and captivating vision
 s printed on large canvas pieces.\n\nComplimentary snacks, drink speci
 als, like minded people, and ART! DJ Mister Mike spinning soul & regga
 e all night!\n'Thursday is the New Friday at North Bowl'\n\nMeet the a
 rtists:\nMarissa Evans is a Philadelphia based photographer with a BA 
 in Film and Media Arts from Temple University. She enjoys twisting rea
 lity with landscape and urban photography. She strives to create surre
 alistic imagery while portraying the beauty in the world around us.@sn
 aveassiram\n\nBrian Lauer is an international award winning fine art a
 nd commercial photographer. New Jersey native and Drexel University gr
 aduate in photography, Brian now runs his studio in Old City Philadelp
 hia producing work mainly in fashion, fine art, and architecture. His 
 body of work showing at North Bowl will include large, unaltered, \"St
 reet\" style photographs of Philadelphia, blending documentary aesthet
 ic with art. \n\"Please support the growing movement in art and bowli
 ng.\"-Brian Lauer@bmlphoto \n\nFor more information visit http://phil
 lytodo.com/events/thursday-is-the-new-friday-at-northbowl-with-artists
 -marissa
DTSTART:20141107T010000Z
DTEND:20141107T050000Z
CATEGORIES:art, exhibit
LOCATION:North Bowl Lounge 'N Lanes
WEBSITE:http://www.northbowlphilly.com/
URL:http://www.northbowlphilly.com/
CONTACT:2152382695
ORGANIZER:North Bowl
ATTACH;FMTTYPE="image/jpeg":http://storage.ning.com/topology/rest/1.0/
 file/get/3054984104?profile=original
ATTENDEE;ROLE=REQ-PARTICIPANT;PARTSTAT=ACCEPTED;RSVP=TRUE;CN="North Bo
 wl @northbowlphilly":http://phillytodo.com/profile/northbowlphilly
END:VEVENT
END:VCALENDAR
