BEGIN:VCALENDAR
PRODID:NingEventWidget-v1
VERSION:2.0
METHOD:PUBLISH
BEGIN:VEVENT
UID:4320450:Event:46830
DTSTAMP:20260425T144302Z
SUMMARY:Thunder From Down Under
DESCRIPTION:Australia's hottest export takes their hit Vegas revue on 
 the road! Thunder From Down Under will perform at Valley Forge Casino 
 Resort (1160 First Avenue) on Friday, August 26, 2016 and Saturday, Au
 gust 27, 2016. The Australian hunks will show off their chiseled bodie
 s, seductive dance routines, cheeky humor and boy-next-door charm. Don
 ’t miss your chance to get up-close and personal during this perfect
  ladies night OUT (back)! Doors open at 7:00pm and showtime is 8:00pm.
   Tickets are on sale now at Ticketmaster for $40.00 and $45.00 each.
 \n\nFor more information visit http://phillytodo.com/events/thunder-fr
 om-down-under
DTSTART:20160827T000000Z
DTEND:20160828T000000Z
CATEGORIES:show
LOCATION:The Venue at Valley Forge Casino Resort
WEBSITE:https://www.vfcasino.com/events/thunder-from-down-under/
URL:https://www.vfcasino.com/events/thunder-from-down-under/
CONTACT:Andrew McDonald,Entertainment Manager 610-354-8222
ORGANIZER;CN="Aversa PR & Events":http://phillytodo.com/profile/KoryAv
 ersa277
ATTACH;FMTTYPE="image/jpeg":http://storage.ning.com/topology/rest/1.0/
 file/get/3054995739?profile=original
ATTENDEE;ROLE=REQ-PARTICIPANT;PARTSTAT=ACCEPTED;RSVP=TRUE;CN="Aversa P
 R & Events":http://phillytodo.com/profile/KoryAversa277
END:VEVENT
END:VCALENDAR
