BEGIN:VCALENDAR
PRODID:NingEventWidget-v1
VERSION:2.0
METHOD:PUBLISH
BEGIN:VEVENT
UID:4320450:Event:52013
DTSTAMP:20260425T124850Z
SUMMARY:Thunder from Down Under
DESCRIPTION:Valley Forge Casino Resort (1160 First Ave, King of Prussi
 a) welcomes back Thunder From Down Under for two shows on August 11 an
 d 12, 2017. The perfect girls night OUTback! Australia's hottest expor
 t shows off chiseled bodies, seductive dance routines, cheeky humor, a
 nd boy-next-door charm that you will not be able to resist. Don't miss
  your chance to get up-close and personal with these Aussie hunks. Thu
 nder From Down Under is raved as the best male revue show from the Veg
 as Strip.  Doors will open at 8:00pm, with the show starting at 9:00p
 m. Overnight packages are available. Ticket prices range from $45-47.5
 0 and are on sale now at Ticketmaster.com.\n\nFor more information vis
 it http://phillytodo.com/events/thunder-from-down-under-1
DTSTART:20170812T010000Z
DTEND:20170819T010000Z
CATEGORIES:show
LOCATION:Valley Forge Casino Resort
WEBSITE:https://www.vfcasino.com/events/thunder-from-down-under-3/
URL:https://www.vfcasino.com/events/thunder-from-down-under-3/
CONTACT:Andrew McDonald, Entertainment Manager 610-354-8222
ORGANIZER;CN="Aversa PR & Events":http://phillytodo.com/profile/KoryAv
 ersa277
ATTACH;FMTTYPE="image/jpeg":http://storage.ning.com/topology/rest/1.0/
 file/get/3055008073?profile=original
ATTENDEE;ROLE=REQ-PARTICIPANT;PARTSTAT=ACCEPTED;RSVP=TRUE;CN="Aversa P
 R & Events":http://phillytodo.com/profile/KoryAversa277
END:VEVENT
END:VCALENDAR
