BEGIN:VCALENDAR
PRODID:NingEventWidget-v1
VERSION:2.0
METHOD:PUBLISH
BEGIN:VEVENT
UID:4320450:Event:41504
DTSTAMP:20260425T173504Z
SUMMARY:Thunder Down Under
DESCRIPTION:Taking their hit Vegas revue on the road, Australia's Hott
 est Export, Thunder From Down Under, will perform at the Valley Forge 
 Casino Resort Music Fair on Saturday, July 11, 2015. The Australian hu
 nks will show off their chiseled bodies, seductive dance routines, che
 eky humor and boy-next-door charm during two shows at 8:00pm and 11:00
 pm. Don’t miss your chance to get up-close and personal with these A
 ussie hunks. Tickets are $45.00 and $50.00 each and on sale at www.vfc
 asino.com/events/thunder-down-under. \n\nFor more information visit h
 ttp://phillytodo.com/events/thunder-down-under
DTSTART:20150712T000000Z
DTEND:20150712T040000Z
CATEGORIES:male, revue
LOCATION:Valley Forge Casino Resort
WEBSITE:https://vfcasino.com/events/thunder-down-under/
URL:https://vfcasino.com/events/thunder-down-under/
CONTACT:(610) 354-8118
ORGANIZER;CN="Aversa PR & Events":http://phillytodo.com/profile/KoryAv
 ersa277
ATTACH;FMTTYPE="image/jpeg":http://storage.ning.com/topology/rest/1.0/
 file/get/3054989511?profile=original
ATTENDEE;ROLE=REQ-PARTICIPANT;PARTSTAT=ACCEPTED;RSVP=TRUE;CN="Aversa P
 R & Events":http://phillytodo.com/profile/KoryAversa277
END:VEVENT
END:VCALENDAR
