BEGIN:VCALENDAR
PRODID:NingEventWidget-v1
VERSION:2.0
METHOD:PUBLISH
BEGIN:VEVENT
UID:4320450:Event:38008
DTSTAMP:20260425T160210Z
SUMMARY:Throwback Thursday Movie Night
DESCRIPTION:Movie night comes to the Franklin Square indoor and air co
 nditioned Pavilion! Tickets required and include beer, wine, soft drin
 ks, and snacks. \n\nFun family entertainment and a beautiful park are
  just steps away from the Liberty Bell, in one of William Penn’s ori
 ginal five squares, and the only one dedicated to fun.  Award-winning
  Franklin Square is a family-friendly play place located in the heart 
 of Historic Philadelphia, featuring Philly Mini Golf, a renovated vint
 age marble fountain, playgrounds, the Parx Liberty Carousel, and the a
 cclaimed SquareBurger, with offerings from STARR Restaurants.  After 
 a day of experiencing the treasures of  Philadelphia’s history, put
 t through some of the city’s most famous icons, take a ride on homet
 own racehorse heroes Afleet Alex or Smarty Jones aboard the carousel, 
 enjoy a rest next to the refreshing fountain, and dine on the finest b
 urgers and shakes in town.  All summer long, enjoy stories about our 
 nation’s history from the Once Upon A Nation storyteller.  Awarded 
 Best of Philly® two times by Philadelphia Magazine and one of the Fiv
 e Coolest Playgrounds in the United States by Yahoo!\n\nFor more infor
 mation visit http://phillytodo.com/events/throwback-thursday-movie-nig
 ht
DTSTART:20140821T220000Z
DTEND:20140822T010000Z
CATEGORIES:movie, night
LOCATION:Franklin Square
WEBSITE:
URL:
CONTACT:
ORGANIZER;CN="Cari Feiler Bender":http://phillytodo.com/profile/CariFe
 ilerBender
ATTACH;FMTTYPE="image/jpeg":http://storage.ning.com/topology/rest/1.0/
 file/get/3054962820?profile=original
ATTENDEE;ROLE=REQ-PARTICIPANT;PARTSTAT=ACCEPTED;RSVP=TRUE;CN="Cari Fei
 ler Bender":http://phillytodo.com/profile/CariFeilerBender
END:VEVENT
END:VCALENDAR
