BEGIN:VCALENDAR
PRODID:NingEventWidget-v1
VERSION:2.0
METHOD:PUBLISH
BEGIN:VEVENT
UID:4320450:Event:2722
DTSTAMP:20260425T144333Z
SUMMARY:THRILLER ~ Philadelphia's Only All-Night Halloween Bash!
DESCRIPTION:The Spring Garden Social Club and Last Call Promotions Pre
 sent\n\nTHRILLER ~ Philadelphia's Only All-Night Halloween Bash!\n\nFe
 aturing Tricks, Treats and Monstrous Beats By...\n...DJ Ronnie D\nDJ J
 ohnathan Silva\nDJ Lee Jones\n\nAnd In Uforia House of Horrors With Da
 nce Philly\nFeaturing DJ Jaden K\nwith opening sets by DJ's Matt Macch
 ioni, Luvitt, and JNH\n\nWith Live Performances by MJ Expressions\n\nB
 ad Ass Costume Contest for $500 in Cash and Prizes\n\nTICKETS\n\nVIP P
 ACKAGE $40\nWith select open bar from 10pm-1am\nComplimentary Hors D' 
 Oeuvres\n\nBOTTLE SERVICE PACKAGE $75\nSelect open bar from 10pm-1am\n
 Complimentary Hors D' Oevres\nAppetizer Platter at Your Table\n** Rese
 rved Seating**\nChoice of One Bottle for Every 4 Guests from the Follo
 wing Selections: Ketel One, Don Julio Blanco, Moet Imperial, or Johnni
 e Walker Black\n\nFor Ticket Reservations Please Call 215-922-2994 x10
 6 or reserve on\nhttp://thrillerphilly.eventbrite.com/\n\nA limited am
 ount of tickets will be sold at the door, Reservations are strongly su
 ggested.\n\nFor more information visit http://phillytodo.com/events/th
 riller-philadelphias-only
DTSTART:20101031T020000Z
DTEND:20101031T100000Z
CATEGORIES:halloween, party
LOCATION:Zee Bar
WEBSITE:http://www.zee-bar.com
URL:http://www.zee-bar.com
CONTACT:215-922-2994 x106
ORGANIZER;CN="Zee Bar Private Social Club":http://phillytodo.com/profi
 le/ZeeBarPrivateSocialClub
ATTACH;FMTTYPE="image/jpeg":http://storage.ning.com/topology/rest/1.0/
 file/get/3054950778?profile=original
ATTENDEE;ROLE=REQ-PARTICIPANT;PARTSTAT=ACCEPTED;RSVP=TRUE;CN="Zee Bar 
 Private Social Club":http://phillytodo.com/profile/ZeeBarPrivateSocial
 Club
END:VEVENT
END:VCALENDAR
