BEGIN:VCALENDAR
PRODID:NingEventWidget-v1
VERSION:2.0
METHOD:PUBLISH
BEGIN:VEVENT
UID:4320450:Event:31843
DTSTAMP:20260425T173554Z
SUMMARY:Thrift Shop Bar Hop
DESCRIPTION:The Thrift Shop Bar Hop is an event encouraging the most
  ridiculous Thrift Shop outfits to be shown off around town for a Bar 
 Hop benefiting The Leukemia & Lymphoma Society. Teams of up to 5 will 
 register to participate and receive FREE drinks at participating bars 
 while earning tokens for various activities around town. Prizes will 
 be awarded for the Top 3 Teams with the most tokens!\nPre-party & Sign
 -in Starts at 1:00p, Bar Hop from 3-7pm, Awards Ceremony at 8pm\nwww.t
 hriftshiopbarhop.org\nRegistration - $25 per person or $100 for pre-re
 gistered teams of 5 people. Individual registrants have the option to 
 create a team, join a team, or be assigned randomly to a team.\nThe en
 try fee includes (4) FREE drink tickets per team member at participati
 ng bars throughout the hop, Swag, pre & post party drink & food specia
 ls, and access to Chinese Auction boasting products and services from 
 local businesses (must be present to win). \nTokens can be earned for
  the following:| Receipts due at Check-in\n1 Token - For Every $5 Spe
 nd on Raffle Tickets for Chinese Auction1 Token - Purchasing a drink
  at Participating Bars2 Tokens - Purchasing a PBR at Participating 
 Bars5 Tokens - Most Matching/Coordinated Team5 Tokens - Most Crazy/
 Ridiculous Team Outfits5 Tokens - Most Creative Outfits5 Tokens - M
 ost Hilarious Outfits5 Tokens - Most Purple Outfits7 Tokens - Post
  a YouTube Video to the Facebook Events Page highlighting your tea
 m!                     Shout out PARTYPLANT & PBR for a hug
 e token BONUS!10 Tokens - Buy a Drink at EVERY BAR on the Hop (keep
  receipts) Mystery TokensEarn a schlew of tokens and SWAG by followi
 ng Hints and Clues on Twitter & Instagram Feeds. Check the Facebook Ev
 ents page and anything #TSBH by either @prtyplnt or @pbrphilly. 
 We WILL be hiding Secret Stashes of Stuff throughout the Hop so stay o
 n your toes!\n\nFor more information visit http://phillytodo.com/event
 s/thrift-shop-bar-hop
DTSTART:20130413T170000Z
DTEND:20130414T000000Z
CATEGORIES:fundraiser, bar, crawl
LOCATION:Northern Liberties, Philadelphia, PA
WEBSITE:https://maps.google.com/maps/ms?msid=216579960752013259758.000
 4d75a91e303e22d0f2&msa=0
URL:https://maps.google.com/maps/ms?msid=216579960752013259758.0004d75
 a91e303e22d0f2&msa=0
CONTACT:
ORGANIZER;CN="PARTYPLANT @prtyplnt":http://phillytodo.com/profile/PART
 YPLANT
ATTACH;FMTTYPE="image/jpeg":http://storage.ning.com/topology/rest/1.0/
 file/get/3054965997?profile=original
ATTENDEE;ROLE=REQ-PARTICIPANT;PARTSTAT=ACCEPTED;RSVP=TRUE;CN="PARTYPLA
 NT @prtyplnt":http://phillytodo.com/profile/PARTYPLANT
END:VEVENT
END:VCALENDAR
