BEGIN:VCALENDAR
PRODID:NingEventWidget-v1
VERSION:2.0
METHOD:PUBLISH
BEGIN:VEVENT
UID:4320450:Event:39230
DTSTAMP:20260425T144803Z
SUMMARY:Three Olives Jacked Apple Holiday Party at Urban Saloon!
DESCRIPTION:Come celebrate at Urban Saloon and warm up your holiday se
 ason with Three Olives Jacked Apple! You and your friends are all invi
 ted to our Holiday Party â€“ and things just got a little sweeter
  with the addition of these delicious red apple & cinnamon cocktails. 
 Our bartenders have worked hard to create some tasty Jacked Apple drin
 k  for you to enjoy. The beautiful Three Olives  girls will also b
 e in attendance giving away  and free prizes! In addition to no cha
 rge to attend, the night will be filled with great drink specials and 
 delicious holiday-inspired cocktails. Make sure you're a part of the f
 un! Please share this event with friends & co-workers and we will see 
 you there!Urban Saloon provides a fun and comfortable environment for 
 any kind of day. Whether it's a football game, happy hour, brunch or a
 n event. Urban Saloon has an environment that anyone will enjoy! You d
 efinitely don't want to miss this holiday party!\n\nFor more informati
 on visit http://phillytodo.com/events/three-olives-jacked-apple-holida
 y-party-at-urban-saloon
DTSTART:20141212T223000Z
DTEND:20141213T050000Z
CATEGORIES:holiday, celebration
LOCATION:Urban Saloon
WEBSITE:
URL:
CONTACT:
ORGANIZER;CN="UpcomingEvents.com":http://phillytodo.com/profile/Upcomi
 ngEventscom
ATTACH;FMTTYPE="image/jpeg":http://storage.ning.com/topology/rest/1.0/
 file/get/3054985268?profile=original
ATTENDEE;ROLE=REQ-PARTICIPANT;PARTSTAT=ACCEPTED;RSVP=TRUE;CN="Upcoming
 Events.com":http://phillytodo.com/profile/UpcomingEventscom
END:VEVENT
END:VCALENDAR
