BEGIN:VCALENDAR
PRODID:NingEventWidget-v1
VERSION:2.0
METHOD:PUBLISH
BEGIN:VEVENT
UID:4320450:Event:39206
DTSTAMP:20260425T143142Z
SUMMARY:Three Olives Jacked Apple Holiday Party at The Bridge Philadel
 phia!
DESCRIPTION:Come celebrate at The Bridge Philadelphia and warm up your
  holiday season with Three Olives Jacked Apple! You and your friends a
 re all invited to our Holiday Party – and things just got a little s
 weeter with the addition of these delicious red apple & cinnamon cockt
 ails. Our bartenders have worked hard to create some tasty Jacked Appl
 e drink recipes for you to enjoy. The beautiful Three Olives promo gir
 ls will also be in attendance giving away free samples and free prizes
 ! \n \nIn addition to no charge to attend, the night will be filled 
 with great drink specials, a special guest DJ, and delicious holiday-i
 nspired cocktails. Make sure you're a part of the fun! Please share th
 is event with friends & co-workers and we will see you there!\n\nFor t
 he link to the event click here: http://www.upcomingevents.com/events
 /philadelphia/the-bridge-philadelphia/three-olives-jacked-apple-holida
 y-party-at-the-bridge-philadelphia-20998/?from=ptodo\n\n\nFor more inf
 ormation visit http://phillytodo.com/events/three-olives-jacked-apple-
 holiday-party-at-the-bridge
DTSTART:20141207T020000Z
DTEND:20141207T040000Z
CATEGORIES:holiday, party, drink, "specials!"
LOCATION:The Bridge Philadelphia
WEBSITE:
URL:
CONTACT:(215) 867-2203
ORGANIZER;CN="UpcomingEvents.com":http://phillytodo.com/profile/Upcomi
 ngEventscom
ATTACH;FMTTYPE="image/jpeg":http://storage.ning.com/topology/rest/1.0/
 file/get/3054985485?profile=original
ATTENDEE;ROLE=REQ-PARTICIPANT;PARTSTAT=ACCEPTED;RSVP=TRUE;CN="Upcoming
 Events.com":http://phillytodo.com/profile/UpcomingEventscom
END:VEVENT
END:VCALENDAR
