BEGIN:VCALENDAR
PRODID:NingEventWidget-v1
VERSION:2.0
METHOD:PUBLISH
BEGIN:VEVENT
UID:4320450:Event:39192
DTSTAMP:20260425T143219Z
SUMMARY:Three Olives Jacked Apple Holiday Party at Tavern on Broad!
DESCRIPTION:Come celebrate at Tavern on Broad and warm up your holiday
  season with Three Olives Jacked Apple! You and your friends are all i
 nvited to our Holiday Party â€“ and things just got a little sweeter w
 ith the addition of these delicious red apple & cinnamon cocktails. Ou
 r bartenders have worked hard to create some tasty Jacked Apple drinkÂ
  Â for you to enjoy. The beautiful Three OlivesÂ Â girls will also be 
 in attendance giving awayÂ Â and free prizes!Â In addition to no charg
 e to attend, the night will be filled with great drink specials, a spe
 cial guest DJ, and delicious holiday-inspired cocktails. Make sure you
 're a part of the fun! Please share this event with friends & co-worke
 rs and we will see you there!\n\nFor more information visit http://phi
 llytodo.com/events/three-olives-jacked-apple-holiday-party-at-tavern-o
 n-broad
DTSTART:20141213T020000Z
DTEND:20141213T040000Z
CATEGORIES:holiday, celebrations
LOCATION:Tavern on Broad
WEBSITE:
URL:
CONTACT:
ORGANIZER;CN="UpcomingEvents.com":http://phillytodo.com/profile/Upcomi
 ngEventscom
ATTACH;FMTTYPE="image/jpeg":http://storage.ning.com/topology/rest/1.0/
 file/get/3054985417?profile=original
ATTENDEE;ROLE=REQ-PARTICIPANT;PARTSTAT=ACCEPTED;RSVP=TRUE;CN="Upcoming
 Events.com":http://phillytodo.com/profile/UpcomingEventscom
END:VEVENT
END:VCALENDAR
