BEGIN:VCALENDAR
PRODID:NingEventWidget-v1
VERSION:2.0
METHOD:PUBLISH
BEGIN:VEVENT
UID:4320450:Event:38999
DTSTAMP:20260425T161343Z
SUMMARY:Three Olives Jacked Apple Holiday Party at Raven Lounge!
DESCRIPTION:Come celebrate at The Raven Lounge and warm up your holida
 y season with Three Olives Jacked Apple! You and your friends are all 
 invited to our Holiday Party – and things just got a little sweeter 
 with the addition of these delicious red apple & cinnamon cocktails. O
 ur bartenders have worked hard to create some tasty Jacked Apple drink
  recipes for you to enjoy. The beautiful Three Olives promo girls will
  also be in attendance giving away free samples and free prizes! In a
 ddition to no charge to attend, the night will be filled with great dr
 ink specials, a special guest DJ, and delicious holiday-inspired cockt
 ails. Make sure you're a part of the fun! Please share this event with
  friends & co-workers and we will see you there!\n\nFor more informati
 on visit http://phillytodo.com/events/three-olives-jacked-apple-holida
 y-party-at-raven-lounge
DTSTART:20141214T020000Z
DTEND:20141214T040000Z
CATEGORIES:holiday, party, drink, "specials!"
LOCATION:The Raven Lounge
WEBSITE:
URL:
CONTACT:
ORGANIZER;CN="UpcomingEvents.com":http://phillytodo.com/profile/Upcomi
 ngEventscom
ATTACH;FMTTYPE="image/jpeg":http://storage.ning.com/topology/rest/1.0/
 file/get/3054981460?profile=original
ATTENDEE;ROLE=REQ-PARTICIPANT;PARTSTAT=ACCEPTED;RSVP=TRUE;CN="Upcoming
 Events.com":http://phillytodo.com/profile/UpcomingEventscom
END:VEVENT
END:VCALENDAR
