BEGIN:VCALENDAR
PRODID:NingEventWidget-v1
VERSION:2.0
METHOD:PUBLISH
BEGIN:VEVENT
UID:4320450:Event:39157
DTSTAMP:20260425T150636Z
SUMMARY:Three Olives Jacked Apple Holiday Party at Positano Coast!
DESCRIPTION:Come celebrate at Positano Coast and warm up your holiday 
 season with Three Olives Jacked Apple! You and your friends are all in
 vited to our Holiday Party â€“ and things just got a little sweet
 er with the addition of these delicious red apple & cinnamon cocktails
 . Our bartenders have worked hard to create some tasty Jacked Apple dr
 ink recipes for you to enjoy. The beautiful Three Olives promo girls w
 ill also be in attendance giving away free samples and free prizes! I
 n addition to no charge to attend, the night will be filled with great
  drink specials and delicious holiday-inspired cocktails. Make sure yo
 u're a part of the fun! Please share this event with friends & co-work
 ers and we will see you there!Positano Coast gives you a taste of the 
 Amalfi Coast Italy right in Old City! As you sip on these delicious co
 cktails don't forget to check out their tasty bar menu items! Positano
  Coast is like no other restaurant in Philly, making you feel like you
 r right on the seaside of Italy. Make sure not to miss this special ho
 liday event!\n\nFor more information visit http://phillytodo.com/event
 s/three-olives-jacked-apple-holiday-party-at-positano-coast
DTSTART:20141204T230000Z
DTEND:20141205T010000Z
CATEGORIES:holiday, party
LOCATION:Positano Coast
WEBSITE:http://www.upcomingevents.com/events/philadelphia/positano-coa
 st/three-olives-jacked-apple-holiday-party-at-positano-coast-20954/?fr
 om=UCE
URL:http://www.upcomingevents.com/events/philadelphia/positano-coast/t
 hree-olives-jacked-apple-holiday-party-at-positano-coast-20954/?from=U
 CE
CONTACT:
ORGANIZER;CN="UpcomingEvents.com":http://phillytodo.com/profile/Upcomi
 ngEventscom
ATTACH;FMTTYPE="image/jpeg":http://storage.ning.com/topology/rest/1.0/
 file/get/3054982905?profile=original
ATTENDEE;ROLE=REQ-PARTICIPANT;PARTSTAT=ACCEPTED;RSVP=TRUE;CN="Upcoming
 Events.com":http://phillytodo.com/profile/UpcomingEventscom
END:VEVENT
END:VCALENDAR
