BEGIN:VCALENDAR
PRODID:NingEventWidget-v1
VERSION:2.0
METHOD:PUBLISH
BEGIN:VEVENT
UID:4320450:Event:39195
DTSTAMP:20260425T174209Z
SUMMARY:Three Olives Jacked Apple Holiday Party at Cavanaugh's Headhou
 se Square!
DESCRIPTION:Come celebrate at Cavanaugh's Headhouse and warm up your h
 oliday season with Three Olives Jacked Apple! You and your friends are
  all invited to our Holiday Party â€“ and things just got a littl
 e sweeter with the addition of these delicious red apple & cinnamon co
 cktails. Our bartenders have worked hard to create some tasty Jacked A
 pple drink recipes for you to enjoy. The beautiful Three Olives promo 
 girls will also be in attendance giving away free samples and free pri
 zes! In addition to no charge to attend, the night will be filled wit
 h great drink specials, a special guest DJ, and delicious holiday-insp
 ired cocktails. Make sure you're a part of the fun! Please share this 
 event with friends & co-workers and we will see you there!\n\nFor more
  information visit http://phillytodo.com/events/three-olives-jacked-ap
 ple-holiday-party-at-cavanaugh-s-headhouse
DTSTART:20141213T030000Z
DTEND:20141213T050000Z
CATEGORIES:holiday, party, drink, "specials!"
LOCATION:Cavanaugh's Headhouse
WEBSITE:
URL:
CONTACT:
ORGANIZER;CN="UpcomingEvents.com":http://phillytodo.com/profile/Upcomi
 ngEventscom
ATTACH;FMTTYPE="image/jpeg":http://storage.ning.com/topology/rest/1.0/
 file/get/3054984205?profile=original
ATTENDEE;ROLE=REQ-PARTICIPANT;PARTSTAT=ACCEPTED;RSVP=TRUE;CN="Upcoming
 Events.com":http://phillytodo.com/profile/UpcomingEventscom
END:VEVENT
END:VCALENDAR
