BEGIN:VCALENDAR
PRODID:NingEventWidget-v1
VERSION:2.0
METHOD:PUBLISH
BEGIN:VEVENT
UID:4320450:Event:16813
DTSTAMP:20260425T185635Z
SUMMARY:\"This Is How It Goes\" after party @ AxD Gallery
DESCRIPTION:The Drinker's will entertain the after party at AxD Galler
 y for Room6Theatre's Philly Fringe show \"This Is How It Goes\" writte
 n by Neil LaBute.The Drinker's will be semi-acoustic for the eveningww
 w.room6theatre.org\n\nFor more information visit http://phillytodo.com
 /events/this-is-how-it-goes-after-party-axd-gallery
DTSTART:20110910T010000Z
DTEND:20110910T030000Z
CATEGORIES:music
LOCATION:AxD Gallery
WEBSITE:http://www.theabsinthedrinkers.com
URL:http://www.theabsinthedrinkers.com
CONTACT:215-627-6250
ORGANIZER;CN="The Absinthe Drinkers":http://phillytodo.com/profile/The
 AbsintheDrinkers
ATTACH;FMTTYPE="image/jpeg":http://storage.ning.com/topology/rest/1.0/
 file/get/3054957531?profile=original
ATTENDEE;ROLE=REQ-PARTICIPANT;PARTSTAT=ACCEPTED;RSVP=TRUE;CN="The Absi
 nthe Drinkers":http://phillytodo.com/profile/TheAbsintheDrinkers
END:VEVENT
END:VCALENDAR
