BEGIN:VCALENDAR
PRODID:NingEventWidget-v1
VERSION:2.0
METHOD:PUBLISH
BEGIN:VEVENT
UID:4320450:Event:48312
DTSTAMP:20260425T142811Z
SUMMARY:Third Anniversary Block Party at Taproom on 19th
DESCRIPTION:Taproom on 19th (2400 S. 19th, Philadelphia) presents its 
 3rd Anniversary Block Party with a full day celebration of brews, burg
 ers, paella and live music. This Saturday, November 12, 2016, from 1:0
 0pm to 10:00pm, owners Michael Strauss and Pete Fry will host guests F
 resh Grill Catering and Paella, performances by the Gin Canaries, tap-
 takeover with Bella Vista Beer Distributor, a special beer from Forest
  & Main Brewing Company, and a preview from their new neighbor Kay Kay
 's Cakes. A large heated tent will take up the 1900 block of Ritner, m
 aking the event rain or shine. Admission is free. All food and drink a
 re pay-as-you-go. Guests must be 21 or older to drink. For more inform
 ation, visit www.taproomon19th.com, call 267-687-7817 or follow @Tapro
 omOn19th\n\nFor more information visit http://phillytodo.com/events/th
 ird-anniversary-block-party-at-taproom-on-19th
DTSTART:20161112T180000Z
DTEND:20161113T030000Z
CATEGORIES:anniversary, party
LOCATION:Taproom on 19th
WEBSITE:http://taproomon19th.com/
URL:http://taproomon19th.com/
CONTACT:267-687-7817
ORGANIZER:Taproom on 19th
ATTACH;FMTTYPE="image/jpeg":http://storage.ning.com/topology/rest/1.0/
 file/get/3054999001?profile=original
ATTENDEE;ROLE=REQ-PARTICIPANT;PARTSTAT=ACCEPTED;RSVP=TRUE;CN="Aversa P
 R & Events":http://phillytodo.com/profile/KoryAversa277
END:VEVENT
END:VCALENDAR
