BEGIN:VCALENDAR
PRODID:NingEventWidget-v1
VERSION:2.0
METHOD:PUBLISH
BEGIN:VEVENT
UID:4320450:Event:663
DTSTAMP:20260425T141235Z
SUMMARY:THINK PINK FLOYD What a Great Live Show!!! -
DESCRIPTION:If Pink Floyd is your thing, you must seek out THINK PINK 
 FLOYD~~http://www.thinkpinkfloyd.com or http://www.facebook.com/THINKP
 INKFLOYD1\nTHINK PINK FLOYD THE ULTIMATE PINK FLOYD TRIBUTE.\n\n((( NE
 XT SHOW)))-~~~~~~~most SHOWS START ON OR AROUND 9 PM\n\nFor more infor
 mation visit http://phillytodo.com/events/think-pink-floyd-what-a-grea
 t
DTSTART:20100221T010000Z
DTEND:20100221T070000Z
CATEGORIES:night, club, blast, with, the, ultimate, tribute
LOCATION:THE CHERRYWOOD LOUNGE
WEBSITE:
URL:
CONTACT:856 227 1281
ORGANIZER;CN="THINKPINKFLOYD.COM":http://phillytodo.com/profile/THINKP
 INKFLOYDCOM
ATTACH;FMTTYPE="image/jpeg":http://storage.ning.com/topology/rest/1.0/
 file/get/3054942852?profile=original
ATTENDEE;ROLE=REQ-PARTICIPANT;PARTSTAT=ACCEPTED;RSVP=TRUE;CN="THINKPIN
 KFLOYD.COM":http://phillytodo.com/profile/THINKPINKFLOYDCOM
END:VEVENT
END:VCALENDAR
