BEGIN:VCALENDAR
PRODID:NingEventWidget-v1
VERSION:2.0
METHOD:PUBLISH
BEGIN:VEVENT
UID:4320450:Event:2515
DTSTAMP:20260425T124906Z
SUMMARY:THEBARCOED.COM PRESENTS \"FORTUNE FRIDAYS\" AT MCFADDENS ON 3R
 D
DESCRIPTION:McFadden's is as American as apple pie! With over a dozen 
 different venues across the country, the McFadden's name is synonymous
  with good times and partying in all of The US' biggest cities.\n\nHer
 e in Philadelphia, McFadden's 3rd is legendary. Known for delivering h
 igh energy parties, great drink specials, music you sing to, and bar t
 op dancing, Mcfadden's is guaranteed to give you good times and plenty
  of wild nights!\n\nNow, every Friday, you can GET LUCKY at McFadden's
  3rd, with TheBarCoed's FORTUNE FRIDAYS!\n\nIt's simple. We have a hug
 e prize wheel, and every hour on the hour, lucky guests spin the wheel
  to GET LUCKY and WIN A FORTUNE!\n\n10PM - Spin & Win\n11PM - Spin & W
 in\n12PM - Spin & Win\n1AM - Spin & Win\n\nRound it goes, and where it
  stops no one knows.....\n\nYou can win anything from a Trip to Las Ve
 gas, to CASH, to Free Open Bar Parties, to MAC iPads. Every week NEW c
 razy prizes that you can't imagine will be on the wheel, and you can G
 ET LUCKY!\n\nFriday Nights won't be the same with 1000 plus people fil
 ling out McFadden's 3rd, the wildest girls dancing on the bar tops, an
 d the drinks flowing in plenty with 3$ Pinnacle Vodka Flavored Drinks 
 ALL NIGHT LONG!\n\nFREE ADMISSION BEFORE MIDNIGHT FOR EVERYONE ON THEB
 ARCOED GUESTLIST. info@thebarcoed.com\n\nFor more information visit ht
 tp://phillytodo.com/events/thebarcoedcom-presents-fortune
DTSTART:20101002T010000Z
DTEND:20101002T060000Z
CATEGORIES:"fortune friday", bar, event
LOCATION:McFaddens on 3rd
WEBSITE:http://philly.thebarcoed.com/happenings/details/3951952-fortun
 e-fridays.html
URL:http://philly.thebarcoed.com/happenings/details/3951952-fortune-fr
 idays.html
CONTACT:
ORGANIZER:THEBARCOED.COM
ATTACH;FMTTYPE="image/jpeg":http://storage.ning.com/topology/rest/1.0/
 file/get/3054950751?profile=original
ATTENDEE;ROLE=REQ-PARTICIPANT;PARTSTAT=ACCEPTED;RSVP=TRUE;CN="Melissa 
 Meltz":http://phillytodo.com/profile/MelissaMeltz
END:VEVENT
END:VCALENDAR
