BEGIN:VCALENDAR
PRODID:NingEventWidget-v1
VERSION:2.0
METHOD:PUBLISH
BEGIN:VEVENT
UID:4320450:Event:58613
DTSTAMP:20260425T144655Z
SUMMARY:Theatre Exile presents Whisper's Gone by MJ Kaufman
DESCRIPTION: \nGo on a top-secret time travel mission with “Whisper
 ’s Gone.”\n \nNine-year-old Bailey is enjoying her summer until h
 er older sibling Whisper disappears, throwing camp counselors and pare
 nts into confusion. However, Bailey knows exactly where Whisper went, 
 spurring a time travel adventure to bring the family back together. Th
 e comedic and heartwarming story of “Whisper’s Gone” touches on 
 family dynamics, divorce, growing up transgender, sibling loyalty, and
 , of course, time-travel.\n \nBring a blanket, picnic, and loved one 
 to attend a “Whisper’s Gone” performance at a neighborhood park 
 near you. The family-friendly show is 55-minutes long and free to atte
 nd.\n \nVisit theatreexile.org for additional details.\n\nFor more in
 formation visit http://phillytodo.com/events/theatre-exile-presents-wh
 isper-s-gone-by-mj-kaufman
DTSTART:20190626T233000Z
DTEND:20190627T003000Z
CATEGORIES:play
LOCATION:Stephen Girard Park
WEBSITE:https://theatreexile.org/shows/575/
URL:https://theatreexile.org/shows/575/
CONTACT:
ORGANIZER;CN="Bryan Chan":http://phillytodo.com/profile/BryanChan
ATTACH;FMTTYPE="image/jpeg":https://storage.ning.com/topology/rest/1.0
 /file/get/2570511796?profile=original
ATTENDEE;ROLE=REQ-PARTICIPANT;PARTSTAT=ACCEPTED;RSVP=TRUE;CN="Bryan Ch
 an":http://phillytodo.com/profile/BryanChan
END:VEVENT
END:VCALENDAR
