BEGIN:VCALENDAR
PRODID:NingEventWidget-v1
VERSION:2.0
METHOD:PUBLISH
BEGIN:VEVENT
UID:4320450:Event:168123
DTSTAMP:20260425T112021Z
SUMMARY:Theatre Exile presents Thaddeus Phillips’s ‘Zoo Motel’
DESCRIPTION:How many secrets can one room hold? Step into this virtual
  odyssey that combines interactive live theater, gripping storytelling
 , cinematic illusions, and magic all in one creative hour of surprises
 . Theatre Exile invites you to check into Zoo Motel, devised by direct
 or, designer, and performer Thaddeus Phillips in 2020 as a quarantined
  experiment that offers a window into what’s possible for live perfo
 rmance — a world where audiences from around the globe can share a m
 ind-bending adventure in the comfort of their own home. Broadcast live
  and online from one room in a South American village, Zoo Motel takes
  you on a journey to Spain, Japan, the Mojave Desert, and other parts 
 of the world alongside fellow motel guests. One room, endless possibil
 ities. Zoo Motel.\n\nFor more information visit http://phillytodo.com/
 events/theatre-exile-presents-thaddeus-phillips-s-zoo-motel
DTSTART:20210415T230000Z
DTEND:20210502T190000Z
CATEGORIES:virtual, theatre, play
LOCATION:Virtual
WEBSITE:https://theatreexile.org/shows/zoo-motel/
URL:https://theatreexile.org/shows/zoo-motel/
CONTACT:(215)-218-4022
ORGANIZER:Theatre Exile
ATTACH;FMTTYPE="image/jpeg":https://storage.ning.com/topology/rest/1.0
 /file/get/8676590695?profile=original
ATTENDEE;ROLE=REQ-PARTICIPANT;PARTSTAT=ACCEPTED;RSVP=TRUE;CN="Bryan Ch
 an":http://phillytodo.com/profile/BryanChan
END:VEVENT
END:VCALENDAR
