BEGIN:VCALENDAR
PRODID:NingEventWidget-v1
VERSION:2.0
METHOD:PUBLISH
BEGIN:VEVENT
UID:4320450:Event:42513
DTSTAMP:20260425T112924Z
SUMMARY:Theatre Exile presents Rizzo (World Premiere)
DESCRIPTION:Theatre Exile presents the world premiere of Rizzo by Bruc
 e Graham, based on the best selling book Rizzo: The Last Big Man in Bi
 g City America by Sal Paolantonio (published by Camino Books, Inc). Gr
 aham brings one of the most divisive figures in Philadelphia’s histo
 ry to the stage October 15 through November 8, 2015 (Opening Night Oct
 ober 21, 2015) at Christ Church Neighborhood House (20 N American Stre
 et).\nFrom beat cop, to Police Commissioner to Mayor of Philadelphia, 
 this anticipated production explores the life of Frank Rizzo as he pre
 pares for his 1991 mayoral campaign. As we jump through time and place
  Rizzo’s Shakespearean complexity and unfiltered opinion brings to l
 ight what made this “larger than life” man both revered and revile
 d by so many. Founding Artistic Director Joe Canuso will direct, with 
 Barrymore Award-winning actor Scott Greer playing the role of Rizzo.\n
 Rizzo is Theatre Exile’s first commissioned play for development, ma
 de possible with funding from The Pew Center for Arts & Heritage and t
 he National Endowment for the Arts.  Show times vary by day. Tickets 
 are $10-40 and available by calling (215) 218-4022 and visiting www.th
 eatreexile.org.\n\n\nFor more information visit http://phillytodo.com/
 events/theatre-exile-presents-rizzo-world-premiere
DTSTART:20151016T000000Z
DTEND:20151108T200000Z
CATEGORIES:theater, performance
LOCATION:Christ Church Neighborhood House
WEBSITE:http://theatreexile.org/
URL:http://theatreexile.org/
CONTACT:215-218-4022
ORGANIZER:Theater Exile
ATTACH;FMTTYPE="image/jpeg":http://storage.ning.com/topology/rest/1.0/
 file/get/3054990101?profile=original
ATTENDEE;ROLE=REQ-PARTICIPANT;PARTSTAT=ACCEPTED;RSVP=TRUE;CN="Aversa P
 R & Events":http://phillytodo.com/profile/KoryAversa277
END:VEVENT
END:VCALENDAR
