BEGIN:VCALENDAR
PRODID:NingEventWidget-v1
VERSION:2.0
METHOD:PUBLISH
BEGIN:VEVENT
UID:4320450:Event:170651
DTSTAMP:20260425T112919Z
SUMMARY:Theatre Exile presents ‘rADicAl ImAgInAtIoN (and other sorte
 d pandemic musings)’
DESCRIPTION:Theatre Exile presents rADicAl ImAgInAtIoN (and other sort
 ed pandemic musings); a Paper Wings event featuring original works wri
 tten by students from Fanny Jackson Coppin and Franklin Learning Cente
 r! For this event, 30 students wrote original works using World Buildi
 ng prompts created by our Education Director, Mx. TS Hawkins. Through 
 imaginative and thematic activities, group assignments, and peer revie
 w, the students had an opportunity to gain real-world experiences and 
 learn how to collaborate in a writer’s room. \n\nFor more informatio
 n visit http://phillytodo.com/events/theatre-exile-presents-radical-im
 agination-and-other-sorted-1
DTSTART:20220604T180000Z
DTEND:20220604T190000Z
CATEGORIES:theatre, presentation
LOCATION:Virtual
WEBSITE:https://theatreexile.org/education/paper-wings-2022/Theatre Ex
 ile presents &lsquo;rADicAl ImAgInAtIoN (and other sorted pandemic mus
 ings)&rsquo;
URL:https://theatreexile.org/education/paper-wings-2022/Theatre Exile 
 presents &lsquo;rADicAl ImAgInAtIoN (and other sorted pandemic musings
 )&rsquo;
CONTACT:2152184022
ORGANIZER;CN="En Route Marketing":http://phillytodo.com/profile/EnRout
 eMarketing
ATTACH;FMTTYPE="image/jpeg":https://storage.ning.com/topology/rest/1.0
 /file/get/10477372889?profile=original
ATTENDEE;ROLE=REQ-PARTICIPANT;PARTSTAT=ACCEPTED;RSVP=TRUE;CN="En Route
  Marketing":http://phillytodo.com/profile/EnRouteMarketing
END:VEVENT
END:VCALENDAR
