BEGIN:VCALENDAR
PRODID:NingEventWidget-v1
VERSION:2.0
METHOD:PUBLISH
BEGIN:VEVENT
UID:4320450:Event:170908
DTSTAMP:20260425T125426Z
SUMMARY:Theatre Exile Presents “Centering Community Voice” (for Di
 rectors/Stage Managers/Dramaturgs/Choreographers) with Cheyenne Barboz
 a
DESCRIPTION:Award-winning director and playwright Cheyenne Barboza wil
 l host Theatre Exile’s fourth workshop of the 2021/22 season, titled
  “Centering Community Voice” (for Directors/Stage Managers/Dramatu
 rgs/Choreographers)! This workshop aims to interrogate the processes e
 mployed when creating community-centered theatre, decentralized arts i
 nstitutions (and their grants), building mutually beneficial relations
 hips, and eradicating the “savior” complex.\nParticipants will rec
 eive a Professional Development Certificate after completing the works
 hop. Tickets are $35 per person.\n\nFor more information visit http://
 phillytodo.com/events/theatre-exile-presents-centering-community-voice
 -for-directors
DTSTART:20220618T160000Z
DTEND:20220618T173000Z
CATEGORIES:online, workshop
LOCATION:(Zoom) – Link will be sent 24 hours before the scheduled wo
 rkshop.
WEBSITE:https://theatreexile.org/workshops-in-exile-2022/
URL:https://theatreexile.org/workshops-in-exile-2022/
CONTACT:215-218-4022
ORGANIZER:Theatre Exile
ATTACH;FMTTYPE="image/jpeg":https://storage.ning.com/topology/rest/1.0
 /file/get/10443743675?profile=original
ATTENDEE;ROLE=REQ-PARTICIPANT;PARTSTAT=ACCEPTED;RSVP=TRUE;CN="En Route
  Marketing":http://phillytodo.com/profile/EnRouteMarketing
END:VEVENT
END:VCALENDAR
