BEGIN:VCALENDAR
PRODID:NingEventWidget-v1
VERSION:2.0
METHOD:PUBLISH
BEGIN:VEVENT
UID:4320450:Event:139115
DTSTAMP:20260425T144705Z
SUMMARY:Theatre Exile Presents Anna Moench’s ‘Sin Eaters’
DESCRIPTION:Toeing the lines between satire and harsh reality, Sin Ea
 ters is a hilarious, poignant, and brutal examination of the human ex
 perience and how the daily toil of life transforms our perceptions of 
 ourselves and those around us. Mary is a “content moderator,” one 
 of the unseen people who scrub our social media feeds of violent, sexu
 al, and otherwise disturbing imagery. As she goes deeper into the rece
 sses of the internet, she finds a graphic video that makes her questio
 n her relationship, her sanity, and her own capacity for violence. Sin
  Eaters is the fourth play by award-winning playwright Anna Moench and
  will be directed by Theatre Exile Resident Artist Matt Pfeiffer, feat
 uring Philadelphia-based actors Bi Jean Ngo and David M Raine.\n\nFor 
 more information visit http://phillytodo.com/events/theatre-exile-pres
 ents-anna-moench-s-sin-eaters
DTSTART:20210212T010000Z
DTEND:20210228T200000Z
CATEGORIES:theatre, virtual, performance
LOCATION:Virtual
WEBSITE:https://theatreexile.org/shows/sin-eaters/
URL:https://theatreexile.org/shows/sin-eaters/
CONTACT:215-218-4022
ORGANIZER:Theatre Exile
ATTACH;FMTTYPE="image/jpeg":https://storage.ning.com/topology/rest/1.0
 /file/get/8448481682?profile=original
ATTENDEE;ROLE=REQ-PARTICIPANT;PARTSTAT=ACCEPTED;RSVP=TRUE;CN="Bryan Ch
 an":http://phillytodo.com/profile/BryanChan
END:VEVENT
END:VCALENDAR
