BEGIN:VCALENDAR
PRODID:NingEventWidget-v1
VERSION:2.0
METHOD:PUBLISH
BEGIN:VEVENT
UID:4320450:Event:170209
DTSTAMP:20260425T111508Z
SUMMARY:Theatre Exile presents ‘Abandon’ by James Ijames
DESCRIPTION:On January 31, Theatre Exile presents a one-night-only vir
 tual reading of Abandon by Philadelphia-based playwright, director, an
 d performer James Ijames through its new play development program, Stu
 dio X-hibition.\n \nLuella is alone. She is haunted by the ghost of h
 er son. Joshua is alone. He has been kicked out of his house by his br
 other. One winter night, these two people collide into each other. Lue
 lla is looking for redemption, Joshua is looking for family. By the ne
 xt morning, these two lonely souls are meshed together into an America
 n Family in its truest sense. The virtual reading for Abandon is set f
 or Monday, January 31, 2022, at 8 p.m.\n\nFor more information visit h
 ttp://phillytodo.com/events/theatre-exile-presents-abandon-by-james-ij
 ames
DTSTART:20220201T010000Z
DTEND:20220201T020000Z
CATEGORIES:play, reading
LOCATION:Zoom
WEBSITE:https://theatreexile.org/on-stage-original/studio-xhibition/
URL:https://theatreexile.org/on-stage-original/studio-xhibition/
CONTACT:215-218-4022
ORGANIZER:Theatre Exile
ATTACH;FMTTYPE="image/jpeg":https://storage.ning.com/topology/rest/1.0
 /file/get/9998224293?profile=original
ATTENDEE;ROLE=REQ-PARTICIPANT;PARTSTAT=ACCEPTED;RSVP=TRUE;CN="Bryan Ch
 an":http://phillytodo.com/profile/BryanChan
END:VEVENT
END:VCALENDAR
