BEGIN:VCALENDAR
PRODID:NingEventWidget-v1
VERSION:2.0
METHOD:PUBLISH
BEGIN:VEVENT
UID:4320450:Event:33971
DTSTAMP:20260425T174154Z
SUMMARY:Theatre Appy Hour – Launch Party for Off Broad Street Mobile
  App
DESCRIPTION:Celebrate seven theatres at your fingertips with an Appy H
 our to launch the Off Broad Street mobile app. Mix and mingle with the
 atre enthusiasts, culture lovers and representatives from 11th Hour, A
 zuka, BRAT Productions, EgoPo, Flashpoint, Inis Nua and Mauckingbird. 
 Meet the minds behind the app as they walk you through the exclusive o
 ffers, season listings, social media feeds, interactive map and up-to-
 minute show information. Enjoy complimentary appetizers, drinks, door 
 prizes and giveaways. Enter to win tickets to seven shows from each of
  the Off Broad Street theatre companies. Admission is free so bring a 
 friend. Ages 21 and older. For more information, visit www.offbroadstr
 eet.org.\n\nFor more information visit http://phillytodo.com/events/th
 eatre-appy-hour-launch-party-for-off-broad-street-mobile-app
DTSTART:20130906T220000Z
DTEND:20130907T000000Z
CATEGORIES:happy, hour
LOCATION:The Corner Foodery
WEBSITE:
URL:
CONTACT:
ORGANIZER;CN="Aversa PR & Events":http://phillytodo.com/profile/KoryAv
 ersa277
ATTACH;FMTTYPE="image/jpeg":http://storage.ning.com/topology/rest/1.0/
 file/get/3054966878?profile=original
ATTENDEE;ROLE=REQ-PARTICIPANT;PARTSTAT=ACCEPTED;RSVP=TRUE;CN="Aversa P
 R & Events":http://phillytodo.com/profile/KoryAversa277
END:VEVENT
END:VCALENDAR
