BEGIN:VCALENDAR
PRODID:NingEventWidget-v1
VERSION:2.0
METHOD:PUBLISH
BEGIN:VEVENT
UID:4320450:Event:27049
DTSTAMP:20260425T161126Z
SUMMARY:The Young Professionals Ball - Philly's Premier Party
DESCRIPTION:An epic celebration of amazing party & club music, great p
 eople, and vip treatment - the Young Professionals Ball IS BACK!  The
  region's longest running, iconic event for area Young Professionals -
  grab your friends, family, and co-workers - you are in for a treat! 
  Enjoy an evening with over 600 young professionals at one of Philadel
 phia most sophisticated nitespots.\n \nFrom 9 - 11 enjoy drink specia
 ls while the DJs spins laid back lounge beats while you eye that someo
 ne special. Then at 11pm, everything heats up as the dance floor becom
 es a sea of moving bodies drenched in hypnotic lights and sounds.  Oh
  yes, it's gonna be an incredible night!   The Official After Party!
 !  Think you need to head home after 2am?  Think again.  The YPB en
 ds at 3:30am - keep rockin' with us for after hours!\n \nOne thing is
  for sure... forget about going out for a typical night in the city at
  the same old place - there is absolutely no better place to be on Sep
 tember 14th in Philly!!!!  FORWARD TO FRIENDS - see you there!!\n\nFo
 r more information visit http://phillytodo.com/events/the-young-profes
 sionals-ball-philly-s-premier-party
DTSTART:20120915T010000Z
DTEND:20120915T073000Z
CATEGORIES:social, event
LOCATION:Whisper
WEBSITE:http://www.upcomingevents.com/philadelphia/young-professionals
 -ball/ptodo
URL:http://www.upcomingevents.com/philadelphia/young-professionals-bal
 l/ptodo
CONTACT:
ORGANIZER;CN="UpcomingEvents.com":http://phillytodo.com/profile/Upcomi
 ngEventscom
ATTACH;FMTTYPE="image/jpeg":http://storage.ning.com/topology/rest/1.0/
 file/get/3054958565?profile=original
ATTENDEE;ROLE=REQ-PARTICIPANT;PARTSTAT=ACCEPTED;RSVP=TRUE;CN="Upcoming
 Events.com":http://phillytodo.com/profile/UpcomingEventscom
END:VEVENT
END:VCALENDAR
