BEGIN:VCALENDAR
PRODID:NingEventWidget-v1
VERSION:2.0
METHOD:PUBLISH
BEGIN:VEVENT
UID:4320450:Event:46321
DTSTAMP:20260425T112924Z
SUMMARY:The Woodward Celebration 2016 Community Picnic
DESCRIPTION:\nThe Woodward Celebration 2016 is a multi-day event serie
 s and capital campaign designed to honor the contributions of the Hous
 ton-Woodward family in Chestnut Hill and beyond. The Community picnic 
 is a community celebration with Carolina BBQ, renowned HoBo Band, chil
 dren’s activities and entertainment. Trolley tours of Chestnut Hill 
 highlighting Houston-Woodward innovative community development, housin
 g and open space will be available for an extra $5 per person.\n\n\n\n
 \n\nFor more information visit http://phillytodo.com/events/the-woodwa
 rd-celebration-2016-community-picnic
DTSTART:20160611T170000Z
DTEND:20160611T193000Z
CATEGORIES:community, picnic
LOCATION:Tent behind Chestnut Hill Community Centre
WEBSITE:http://www.woodwardcommunitycentre.org
URL:http://www.woodwardcommunitycentre.org
CONTACT:2156217064
ORGANIZER:Woodward Celebration Committee
ATTACH;FMTTYPE="image/jpeg":http://storage.ning.com/topology/rest/1.0/
 file/get/3054995864?profile=original
ATTENDEE;ROLE=REQ-PARTICIPANT;PARTSTAT=ACCEPTED;RSVP=TRUE;CN="Bryan Ch
 an":http://phillytodo.com/profile/BryanChan
END:VEVENT
END:VCALENDAR
